BEGIN:VCALENDAR
VERSION:2.0
PRODID:-//Oberbayern: echt Bayern - ECPv5.14.1//NONSGML v1.0//EN
CALSCALE:GREGORIAN
METHOD:PUBLISH
X-WR-CALNAME:Oberbayern: echt Bayern
X-ORIGINAL-URL:https://www.oberbayern.de
X-WR-CALDESC:Veranstaltungen für Oberbayern: echt Bayern
REFRESH-INTERVAL;VALUE=DURATION:PT1H
X-Robots-Tag:noindex
X-PUBLISHED-TTL:PT1H
BEGIN:VTIMEZONE
TZID:Europe/Berlin
BEGIN:DAYLIGHT
TZOFFSETFROM:+0100
TZOFFSETTO:+0200
TZNAME:CEST
DTSTART:20220327T010000
END:DAYLIGHT
BEGIN:STANDARD
TZOFFSETFROM:+0200
TZOFFSETTO:+0100
TZNAME:CET
DTSTART:20221030T010000
END:STANDARD
END:VTIMEZONE
BEGIN:VEVENT
DTSTART;TZID=Europe/Berlin:20221107T090000
DTEND;TZID=Europe/Berlin:20221107T160000
DTSTAMP:20260424T181920
CREATED:20220202T200242Z
LAST-MODIFIED:20221024T080735Z
UID:1999-1667811600-1667836800@www.oberbayern.de
SUMMARY:Leonhardifahrt Bad Tölz 2022
DESCRIPTION:Wenn sich am 6. November tausende Menschen in den Straßen und Gassen von Bad Tölz tummeln und eine Geräuschkulisse aus Hufgeklapper und fröhlichem Stimmengewirr die Atmosphäre bestimmt\, findet eine der schönsten Pferdewallfahrten Deutschlands statt: Die Bad Tölzer Leonhardifahrt. \nIn Bayern ist der November nicht durch Zufall der Monat der Leonhardiritte\, denn am 6. November feiert Leonhard seinen Namenstag. Die feierliche Wallfahrt findet nie an einem Wochenende statt – fällt der Tölzer Stadtfeiertag auf einen Samstag\, wird das Event vorverlegt\, ist der 6. November ein Sonntag\, wird die Fahrt auf den folgenden Montag verschoben. Die Wallfahrt beginnt unter dem Glockengeläut aller Tölzer Kirchen um 9 Uhr im „Badeteil“\, dem Kurviertel am linken Isarufer und endet mit dem Abschlusssegen um 16 Uhr.
URL:https://www.oberbayern.de/event/leonhardifahrt-bad-toelz/
LOCATION:Bad Tölz\, 83646
CATEGORIES:Kultur
ATTACH;FMTTYPE=image/jpeg:https://www.oberbayern.de/wp-content/uploads/sites/3/2022/02/Leonhardifahrt-Bad-Toekz.jpg
ORGANIZER;CN="Stadt%20Bad%20T%C3%B6lz":MAILTO:info@bad-toelz.de
END:VEVENT
END:VCALENDAR