BEGIN:VCALENDAR
VERSION:2.0
PRODID:-//Oberbayern: echt Bayern - ECPv5.14.1//NONSGML v1.0//EN
CALSCALE:GREGORIAN
METHOD:PUBLISH
X-WR-CALNAME:Oberbayern: echt Bayern
X-ORIGINAL-URL:https://www.oberbayern.de
X-WR-CALDESC:Veranstaltungen für Oberbayern: echt Bayern
REFRESH-INTERVAL;VALUE=DURATION:PT1H
X-Robots-Tag:noindex
X-PUBLISHED-TTL:PT1H
BEGIN:VTIMEZONE
TZID:Europe/Berlin
BEGIN:DAYLIGHT
TZOFFSETFROM:+0100
TZOFFSETTO:+0200
TZNAME:CEST
DTSTART:20230326T010000
END:DAYLIGHT
BEGIN:STANDARD
TZOFFSETFROM:+0200
TZOFFSETTO:+0100
TZNAME:CET
DTSTART:20231029T010000
END:STANDARD
END:VTIMEZONE
BEGIN:VEVENT
DTSTART;TZID=Europe/Berlin:20230520T100000
DTEND;TZID=Europe/Berlin:20230520T180000
DTSTAMP:20260421T182624
CREATED:20230208T112858Z
LAST-MODIFIED:20230208T112858Z
UID:14221-1684576800-1684605600@www.oberbayern.de
SUMMARY:Traditionelles Spargelfest in Schrobenhausen
DESCRIPTION:Traditionelles Spargelfest in Schrobenhausen \nWenn der Spargel in größeren Mengen zur Verfügung steht\, feiert man dies alljährlich ganz groß auf dem traditionellen Spargelfest in Schrobenhausen. Gefeiert wird mit einem abwechslungsreichen Programm\, Spargelverkauf und vielen leckeren Schmankerln.
URL:https://www.oberbayern.de/event/traditionelles-spargelfest-in-schrobenhausen/
LOCATION:Lenbachplatz\, Schrobenhausen\, Schrobenhausen\, 86529
CATEGORIES:Kultur
ATTACH;FMTTYPE=image/jpeg:https://www.oberbayern.de/wp-content/uploads/sites/3/2023/02/Spargelfest_Schrobenhausen-©Stadt-Schrobenhausen-scaled.jpg
END:VEVENT
END:VCALENDAR