BEGIN:VCALENDAR
VERSION:2.0
PRODID:-//Oberbayern: echt Bayern - ECPv5.14.1//NONSGML v1.0//EN
CALSCALE:GREGORIAN
METHOD:PUBLISH
X-WR-CALNAME:Oberbayern: echt Bayern
X-ORIGINAL-URL:https://www.oberbayern.de
X-WR-CALDESC:Veranstaltungen für Oberbayern: echt Bayern
REFRESH-INTERVAL;VALUE=DURATION:PT1H
X-Robots-Tag:noindex
X-PUBLISHED-TTL:PT1H
BEGIN:VTIMEZONE
TZID:Europe/Berlin
BEGIN:DAYLIGHT
TZOFFSETFROM:+0100
TZOFFSETTO:+0200
TZNAME:CEST
DTSTART:20230326T010000
END:DAYLIGHT
BEGIN:STANDARD
TZOFFSETFROM:+0200
TZOFFSETTO:+0100
TZNAME:CET
DTSTART:20231029T010000
END:STANDARD
END:VTIMEZONE
BEGIN:VEVENT
DTSTART;VALUE=DATE:20230811
DTEND;VALUE=DATE:20230814
DTSTAMP:20260423T174425
CREATED:20230413T130351Z
LAST-MODIFIED:20230413T130351Z
UID:14663-1691712000-1691971199@www.oberbayern.de
SUMMARY:Waldfest Skiclub Schliersee
DESCRIPTION:Das traditionelle Waldfest findet in Schliersee an der Seestraße statt. Es spielen „Die Stürzlhamer“\, die „ Huaba Oim Musi“\, die Blaskapelle Hartpenning“ und die Elbacher Blasmusik
URL:https://www.oberbayern.de/event/waldfest-skiclub-schliersee/
LOCATION:Waldfestplatz\, Schliersee\, 83727
CATEGORIES:Natur
ATTACH;FMTTYPE=image/jpeg:https://www.oberbayern.de/wp-content/uploads/sites/3/2023/04/waldfest.jpg
END:VEVENT
END:VCALENDAR